BEGIN:VCALENDAR
VERSION:2.0
PRODID:-//The 24 Hour Plays - ECPv6.15.11//NONSGML v1.0//EN
CALSCALE:GREGORIAN
METHOD:PUBLISH
X-WR-CALNAME:The 24 Hour Plays
X-ORIGINAL-URL:https://24hourplays.org
X-WR-CALDESC:Events for The 24 Hour Plays
REFRESH-INTERVAL;VALUE=DURATION:PT1H
X-Robots-Tag:noindex
X-PUBLISHED-TTL:PT1H
BEGIN:VTIMEZONE
TZID:Europe/London
BEGIN:DAYLIGHT
TZOFFSETFROM:+0000
TZOFFSETTO:+0100
TZNAME:BST
DTSTART:20230326T010000
END:DAYLIGHT
BEGIN:STANDARD
TZOFFSETFROM:+0100
TZOFFSETTO:+0000
TZNAME:GMT
DTSTART:20231029T010000
END:STANDARD
BEGIN:DAYLIGHT
TZOFFSETFROM:+0000
TZOFFSETTO:+0100
TZNAME:BST
DTSTART:20240331T010000
END:DAYLIGHT
BEGIN:STANDARD
TZOFFSETFROM:+0100
TZOFFSETTO:+0000
TZNAME:GMT
DTSTART:20241027T010000
END:STANDARD
BEGIN:DAYLIGHT
TZOFFSETFROM:+0000
TZOFFSETTO:+0100
TZNAME:BST
DTSTART:20250330T010000
END:DAYLIGHT
BEGIN:STANDARD
TZOFFSETFROM:+0100
TZOFFSETTO:+0000
TZNAME:GMT
DTSTART:20251026T010000
END:STANDARD
END:VTIMEZONE
BEGIN:VTIMEZONE
TZID:America/New_York
BEGIN:DAYLIGHT
TZOFFSETFROM:-0500
TZOFFSETTO:-0400
TZNAME:EDT
DTSTART:20230312T070000
END:DAYLIGHT
BEGIN:STANDARD
TZOFFSETFROM:-0400
TZOFFSETTO:-0500
TZNAME:EST
DTSTART:20231105T060000
END:STANDARD
BEGIN:DAYLIGHT
TZOFFSETFROM:-0500
TZOFFSETTO:-0400
TZNAME:EDT
DTSTART:20240310T070000
END:DAYLIGHT
BEGIN:STANDARD
TZOFFSETFROM:-0400
TZOFFSETTO:-0500
TZNAME:EST
DTSTART:20241103T060000
END:STANDARD
BEGIN:DAYLIGHT
TZOFFSETFROM:-0500
TZOFFSETTO:-0400
TZNAME:EDT
DTSTART:20250309T070000
END:DAYLIGHT
BEGIN:STANDARD
TZOFFSETFROM:-0400
TZOFFSETTO:-0500
TZNAME:EST
DTSTART:20251102T060000
END:STANDARD
END:VTIMEZONE
BEGIN:VEVENT
DTSTART;TZID=Europe/London:20240607T200000
DTEND;TZID=Europe/London:20240607T220000
DTSTAMP:20260420T061252
CREATED:20240903T143245Z
LAST-MODIFIED:20240903T143245Z
UID:11818-1717790400-1717797600@24hourplays.org
SUMMARY:The 24 Hour Plays: TRP
DESCRIPTION:The 24 Hour Plays are coming to Theatre Royal Plymouth on June 7\, 2024!
URL:https://24hourplays.org/event/the-24-hour-plays-trp/
LOCATION:Theatre Royal Plymouth\, The Drum\, Theatre Royal Plymouth\, Royal Parade\, Plymouth\, PL1 2TR\, United Kingdom
END:VEVENT
BEGIN:VEVENT
DTSTART;TZID=America/New_York:20240608T190000
DTEND;TZID=America/New_York:20240608T210000
DTSTAMP:20260420T061252
CREATED:20240903T141610Z
LAST-MODIFIED:20240903T141610Z
UID:11817-1717873200-1717880400@24hourplays.org
SUMMARY:The 24 Hour Plays: Lancaster 2024
DESCRIPTION:The 24 Hour Plays return to Creative Works of Lancaster on June 8th for their annual show!
URL:https://24hourplays.org/event/the-24-hour-plays-lancaster-2024/
LOCATION:West Art\, 800 Buchanan Avenue\, Lancaster\, Pennsylvania\, 17603
END:VEVENT
BEGIN:VEVENT
DTSTART;TZID=America/New_York:20240610T190000
DTEND;TZID=America/New_York:20240610T210000
DTSTAMP:20260420T061252
CREATED:20240418T183354Z
LAST-MODIFIED:20240605T165505Z
UID:11630-1718046000-1718053200@24hourplays.org
SUMMARY:The 24 Hour Musicals
DESCRIPTION:The 24 Hour Musicals return to Classic Stage Company on June 10th\, bringing together EXTRAORDINARY ARTISTS from Broadway\, TV and film to write\, rehearse and perform four new musicals in just 24 hours!
URL:https://24hourplays.org/event/the-24-hour-musicals/
LOCATION:Classic Stage Company\, 136 E 13th St\, New York\, NY\, 10003\, United States
END:VEVENT
BEGIN:VEVENT
DTSTART;TZID=America/New_York:20240624T153000
DTEND;TZID=America/New_York:20240624T170000
DTSTAMP:20260420T061252
CREATED:20240418T191936Z
LAST-MODIFIED:20240521T171153Z
UID:11636-1719243000-1719248400@24hourplays.org
SUMMARY:The 24 Hour Plays: International Thespian Festival
DESCRIPTION:Students from all over the country come together for the annual The 24 Hour Plays: ITF on June 24\, 2024 at the University of Indiana\, Bloomington!
URL:https://24hourplays.org/event/the-24-hour-plays-international-thespian-festival/
LOCATION:Ruth N. Halls Theatre – Indiana University\, Bloomington\, 275 N Jordan Ave\, Bloomington\, IN\, 47405\, United States
END:VEVENT
BEGIN:VEVENT
DTSTART;TZID=America/New_York:20240624T200000
DTEND;TZID=America/New_York:20240624T220000
DTSTAMP:20260420T061252
CREATED:20240418T191026Z
LAST-MODIFIED:20240418T191026Z
UID:11634-1719259200-1719266400@24hourplays.org
SUMMARY:The 24 Hour Plays: Denver
DESCRIPTION:Our annual partnership with Curious Theatre Company in Denver\, Colorado!
URL:https://24hourplays.org/event/the-24-hour-plays-denver/
LOCATION:Curious Theatre Company\, 1080 Acoma St\, Denver\, CO\, 80204\, United States
END:VEVENT
BEGIN:VEVENT
DTSTART;TZID=America/New_York:20240629T200000
DTEND;TZID=America/New_York:20240629T220000
DTSTAMP:20260420T061252
CREATED:20240418T192431Z
LAST-MODIFIED:20240418T192431Z
UID:11638-1719691200-1719698400@24hourplays.org
SUMMARY:The 24 Hour Plays: Memphis
DESCRIPTION:The 24 Hour Plays are coming back to Memphis on June 29th!
URL:https://24hourplays.org/event/the-24-hour-plays-memphis/
LOCATION:MN
END:VEVENT
END:VCALENDAR